BEGIN:VCALENDAR
VERSION:2.0
PRODID:-//ChamberMaster//Event Calendar 2.0//EN
METHOD:PUBLISH
X-PUBLISHED-TTL:P1H
REFRESH-INTERVAL:P1H
CALSCALE:GREGORIAN
BEGIN:VTIMEZONE
TZID:America/New_York
BEGIN:DAYLIGHT
RRULE:FREQ=YEARLY;BYMONTH=3;BYDAY=2SU
DTSTART:20070101T000000
TZOFFSETFROM:-0500
TZOFFSETTO:-0400
TZNAME:Eastern Daylight Time
END:DAYLIGHT
BEGIN:STANDARD
RRULE:FREQ=YEARLY;BYMONTH=11;BYDAY=1SU
DTSTART:20070101T000000
TZOFFSETFROM:-0400
TZOFFSETTO:-0500
TZNAME:Eastern Standard Time
END:STANDARD
END:VTIMEZONE
BEGIN:VEVENT
DTSTART;TZID=America/New_York:20260618T170000
DTEND;TZID=America/New_York:20260618T190000
X-MICROSOFT-CDO-ALLDAYEVENT:FALSE
SUMMARY:BASH Hosted by: Daft Cow Brewery
DESCRIPTION:The Alachua Chamber Big Alachua Social Hour (B.A.S.H.) is a monthly networking after hours event open to Chamber members. The event host is rotated through members who wish to showcase their business and operations. This casual\, come and go as you please event is held every third Thursday from 5 PM to 7 PM.
X-ALT-DESC;FMTTYPE=text/html:The Alachua Chamber Big Alachua Social Hour (B.A.S.H.) is a monthly networking after hours event open to Chamber members. The event host is rotated through members who wish to showcase their business and operations. This casual\, come and go as you please event is held every third Thursday from 5 PM to 7 PM.
LOCATION:13800 Tech City Circle Suite 100 Alachua FL 32615
UID:e.3784.1445190
SEQUENCE:3
DTSTAMP:20260422T202104Z
URL:https://business.alachuachamber.com/event-calendar/Details/bash-hosted-by-daft-cow-brewery-1711697?sourceTypeId=Hub
END:VEVENT
END:VCALENDAR
